BEGIN:VCALENDAR
VERSION:2.0
PRODID:-//Local 6 - ECPv6.15.18//NONSGML v1.0//EN
CALSCALE:GREGORIAN
METHOD:PUBLISH
X-ORIGINAL-URL:https://iueclocal6.org
X-WR-CALDESC:Events for Local 6
REFRESH-INTERVAL;VALUE=DURATION:PT1H
X-Robots-Tag:noindex
X-PUBLISHED-TTL:PT1H
BEGIN:VTIMEZONE
TZID:UTC
BEGIN:STANDARD
TZOFFSETFROM:+0000
TZOFFSETTO:+0000
TZNAME:UTC
DTSTART:20250101T000000
END:STANDARD
END:VTIMEZONE
BEGIN:VEVENT
DTSTART;TZID=UTC:20260512T180000
DTEND;TZID=UTC:20260512T190000
DTSTAMP:20260421T115128
CREATED:20250415T063221Z
LAST-MODIFIED:20250415T063221Z
UID:10000340-1778608800-1778612400@iueclocal6.org
SUMMARY:Union Meeting
DESCRIPTION:
URL:https://iueclocal6.org/event/union-meeting/2026-05-12/
CATEGORIES:default
END:VEVENT
END:VCALENDAR