BEGIN:VCALENDAR
VERSION:2.0
PRODID:-//Local 6 - ECPv6.15.18//NONSGML v1.0//EN
CALSCALE:GREGORIAN
METHOD:PUBLISH
X-WR-CALNAME:Local 6
X-ORIGINAL-URL:https://iueclocal6.org
X-WR-CALDESC:Events for Local 6
REFRESH-INTERVAL;VALUE=DURATION:PT1H
X-Robots-Tag:noindex
X-PUBLISHED-TTL:PT1H
BEGIN:VTIMEZONE
TZID:UTC
BEGIN:STANDARD
TZOFFSETFROM:+0000
TZOFFSETTO:+0000
TZNAME:UTC
DTSTART:20240101T000000
END:STANDARD
END:VTIMEZONE
BEGIN:VEVENT
DTSTART;VALUE=DATE:20260615
DTEND;VALUE=DATE:20260620
DTSTAMP:20260421T231932
CREATED:20251113T182124Z
LAST-MODIFIED:20251113T182124Z
UID:10000451-1781506800-1781852399@iueclocal6.org
SUMMARY:CECA 2026
DESCRIPTION:
URL:https://iueclocal6.org/event/ceca-2026/
CATEGORIES:default
END:VEVENT
BEGIN:VEVENT
DTSTART;TZID=UTC:20260609T180000
DTEND;TZID=UTC:20260609T190000
DTSTAMP:20260421T231932
CREATED:20250415T063221Z
LAST-MODIFIED:20250415T063221Z
UID:10000341-1781028000-1781031600@iueclocal6.org
SUMMARY:Union Meeting
DESCRIPTION:
URL:https://iueclocal6.org/event/union-meeting/2026-06-09/
CATEGORIES:default
END:VEVENT
BEGIN:VEVENT
DTSTART;TZID=UTC:20260602T170000
DTEND;TZID=UTC:20260602T180000
DTSTAMP:20260421T231932
CREATED:20250415T063434Z
LAST-MODIFIED:20250415T063434Z
UID:10000401-1780419600-1780423200@iueclocal6.org
SUMMARY:Executive Board Meeting
DESCRIPTION:
URL:https://iueclocal6.org/event/executive-board-meeting/2026-06-02/
CATEGORIES:default
END:VEVENT
BEGIN:VEVENT
DTSTART;TZID=UTC:20260512T180000
DTEND;TZID=UTC:20260512T190000
DTSTAMP:20260421T231932
CREATED:20250415T063221Z
LAST-MODIFIED:20250415T063221Z
UID:10000340-1778608800-1778612400@iueclocal6.org
SUMMARY:Union Meeting
DESCRIPTION:
URL:https://iueclocal6.org/event/union-meeting/2026-05-12/
CATEGORIES:default
END:VEVENT
BEGIN:VEVENT
DTSTART;TZID=UTC:20260505T170000
DTEND;TZID=UTC:20260505T180000
DTSTAMP:20260421T231932
CREATED:20250415T063434Z
LAST-MODIFIED:20250415T063434Z
UID:10000400-1778000400-1778004000@iueclocal6.org
SUMMARY:Executive Board Meeting
DESCRIPTION:
URL:https://iueclocal6.org/event/executive-board-meeting/2026-05-05/
CATEGORIES:default
END:VEVENT
BEGIN:VEVENT
DTSTART;VALUE=DATE:20260428
DTEND;VALUE=DATE:20260501
DTSTAMP:20260421T231932
CREATED:20251113T153130Z
LAST-MODIFIED:20251113T153130Z
UID:10000450-1777359600-1777532399@iueclocal6.org
SUMMARY:IUEC Global Safety Summit
DESCRIPTION:
URL:https://iueclocal6.org/event/iuec-global-safety-summit/
END:VEVENT
BEGIN:VEVENT
DTSTART;TZID=UTC:20260414T180000
DTEND;TZID=UTC:20260414T190000
DTSTAMP:20260421T231932
CREATED:20250415T063221Z
LAST-MODIFIED:20250415T063221Z
UID:10000339-1776189600-1776193200@iueclocal6.org
SUMMARY:Union Meeting
DESCRIPTION:
URL:https://iueclocal6.org/event/union-meeting/2026-04-14/
CATEGORIES:default
END:VEVENT
BEGIN:VEVENT
DTSTART;TZID=UTC:20260407T170000
DTEND;TZID=UTC:20260407T180000
DTSTAMP:20260421T231932
CREATED:20250415T063434Z
LAST-MODIFIED:20250415T063434Z
UID:10000399-1775581200-1775584800@iueclocal6.org
SUMMARY:Executive Board Meeting
DESCRIPTION:
URL:https://iueclocal6.org/event/executive-board-meeting/2026-04-07/
CATEGORIES:default
END:VEVENT
BEGIN:VEVENT
DTSTART;VALUE=DATE:20260325
DTEND;VALUE=DATE:20260329
DTSTAMP:20260421T231932
CREATED:20251113T183536Z
LAST-MODIFIED:20251113T183536Z
UID:10000452-1774422000-1774681199@iueclocal6.org
SUMMARY:CTBUH 2026 Americas Conference
DESCRIPTION:
URL:https://iueclocal6.org/event/ctbuh-2026-americas-conference/
END:VEVENT
BEGIN:VEVENT
DTSTART;TZID=UTC:20260310T180000
DTEND;TZID=UTC:20260310T190000
DTSTAMP:20260421T231932
CREATED:20250415T063221Z
LAST-MODIFIED:20250415T063221Z
UID:10000338-1773165600-1773169200@iueclocal6.org
SUMMARY:Union Meeting
DESCRIPTION:
URL:https://iueclocal6.org/event/union-meeting/2026-03-10/
CATEGORIES:default
END:VEVENT
BEGIN:VEVENT
DTSTART;TZID=UTC:20260303T170000
DTEND;TZID=UTC:20260303T180000
DTSTAMP:20260421T231932
CREATED:20250415T063434Z
LAST-MODIFIED:20250415T063434Z
UID:10000398-1772557200-1772560800@iueclocal6.org
SUMMARY:Executive Board Meeting
DESCRIPTION:
URL:https://iueclocal6.org/event/executive-board-meeting/2026-03-03/
CATEGORIES:default
END:VEVENT
BEGIN:VEVENT
DTSTART;TZID=UTC:20260210T180000
DTEND;TZID=UTC:20260210T190000
DTSTAMP:20260421T231932
CREATED:20250415T063221Z
LAST-MODIFIED:20250415T063221Z
UID:10000337-1770746400-1770750000@iueclocal6.org
SUMMARY:Union Meeting
DESCRIPTION:
URL:https://iueclocal6.org/event/union-meeting/2026-02-10/
CATEGORIES:default
END:VEVENT
BEGIN:VEVENT
DTSTART;TZID=UTC:20260203T170000
DTEND;TZID=UTC:20260203T180000
DTSTAMP:20260421T231932
CREATED:20250415T063434Z
LAST-MODIFIED:20250415T063434Z
UID:10000397-1770138000-1770141600@iueclocal6.org
SUMMARY:Executive Board Meeting
DESCRIPTION:
URL:https://iueclocal6.org/event/executive-board-meeting/2026-02-03/
CATEGORIES:default
END:VEVENT
BEGIN:VEVENT
DTSTART;TZID=UTC:20260113T180000
DTEND;TZID=UTC:20260113T190000
DTSTAMP:20260421T231932
CREATED:20250415T063221Z
LAST-MODIFIED:20250415T063221Z
UID:10000336-1768327200-1768330800@iueclocal6.org
SUMMARY:Union Meeting
DESCRIPTION:
URL:https://iueclocal6.org/event/union-meeting/2026-01-13/
CATEGORIES:default
END:VEVENT
BEGIN:VEVENT
DTSTART;TZID=UTC:20260106T170000
DTEND;TZID=UTC:20260106T180000
DTSTAMP:20260421T231932
CREATED:20250415T063434Z
LAST-MODIFIED:20250415T063434Z
UID:10000396-1767718800-1767722400@iueclocal6.org
SUMMARY:Executive Board Meeting
DESCRIPTION:
URL:https://iueclocal6.org/event/executive-board-meeting/2026-01-06/
CATEGORIES:default
END:VEVENT
BEGIN:VEVENT
DTSTART;TZID=UTC:20260101T080000
DTEND;TZID=UTC:20260101T170000
DTSTAMP:20260421T231932
CREATED:20250415T063951Z
LAST-MODIFIED:20250415T063951Z
UID:10000449-1767254400-1767286800@iueclocal6.org
SUMMARY:Annual Corn Hole Tournament for Lift for a Vet
DESCRIPTION:
URL:https://iueclocal6.org/event/annual-corn-hole-tournament-for-lift-for-a-vet/
CATEGORIES:default
END:VEVENT
BEGIN:VEVENT
DTSTART;TZID=UTC:20251209T180000
DTEND;TZID=UTC:20251209T190000
DTSTAMP:20260421T231932
CREATED:20250415T063221Z
LAST-MODIFIED:20250415T063221Z
UID:10000335-1765303200-1765306800@iueclocal6.org
SUMMARY:Union Meeting
DESCRIPTION:
URL:https://iueclocal6.org/event/union-meeting/2025-12-09/
CATEGORIES:default
END:VEVENT
BEGIN:VEVENT
DTSTART;TZID=UTC:20251202T170000
DTEND;TZID=UTC:20251202T180000
DTSTAMP:20260421T231932
CREATED:20250415T063434Z
LAST-MODIFIED:20250415T063434Z
UID:10000395-1764694800-1764698400@iueclocal6.org
SUMMARY:Executive Board Meeting
DESCRIPTION:
URL:https://iueclocal6.org/event/executive-board-meeting/2025-12-02/
CATEGORIES:default
END:VEVENT
BEGIN:VEVENT
DTSTART;TZID=UTC:20251111T180000
DTEND;TZID=UTC:20251111T190000
DTSTAMP:20260421T231932
CREATED:20250415T063221Z
LAST-MODIFIED:20250415T063221Z
UID:10000334-1762884000-1762887600@iueclocal6.org
SUMMARY:Union Meeting
DESCRIPTION:
URL:https://iueclocal6.org/event/union-meeting/2025-11-11/
CATEGORIES:default
END:VEVENT
BEGIN:VEVENT
DTSTART;TZID=UTC:20251104T170000
DTEND;TZID=UTC:20251104T180000
DTSTAMP:20260421T231932
CREATED:20250415T063434Z
LAST-MODIFIED:20250415T063434Z
UID:10000394-1762275600-1762279200@iueclocal6.org
SUMMARY:Executive Board Meeting
DESCRIPTION:
URL:https://iueclocal6.org/event/executive-board-meeting/2025-11-04/
CATEGORIES:default
END:VEVENT
BEGIN:VEVENT
DTSTART;TZID=UTC:20251014T180000
DTEND;TZID=UTC:20251014T190000
DTSTAMP:20260421T231932
CREATED:20250415T063221Z
LAST-MODIFIED:20250415T063221Z
UID:10000333-1760464800-1760468400@iueclocal6.org
SUMMARY:Union Meeting
DESCRIPTION:
URL:https://iueclocal6.org/event/union-meeting/2025-10-14/
CATEGORIES:default
END:VEVENT
BEGIN:VEVENT
DTSTART;TZID=UTC:20251007T170000
DTEND;TZID=UTC:20251007T180000
DTSTAMP:20260421T231932
CREATED:20250415T063434Z
LAST-MODIFIED:20250415T063434Z
UID:10000393-1759856400-1759860000@iueclocal6.org
SUMMARY:Executive Board Meeting
DESCRIPTION:
URL:https://iueclocal6.org/event/executive-board-meeting/2025-10-07/
CATEGORIES:default
END:VEVENT
BEGIN:VEVENT
DTSTART;TZID=UTC:20250909T180000
DTEND;TZID=UTC:20250909T190000
DTSTAMP:20260421T231932
CREATED:20250415T063221Z
LAST-MODIFIED:20250415T063221Z
UID:10000332-1757440800-1757444400@iueclocal6.org
SUMMARY:Union Meeting
DESCRIPTION:
URL:https://iueclocal6.org/event/union-meeting/2025-09-09/
CATEGORIES:default
END:VEVENT
BEGIN:VEVENT
DTSTART;TZID=UTC:20250902T170000
DTEND;TZID=UTC:20250902T180000
DTSTAMP:20260421T231932
CREATED:20250415T063434Z
LAST-MODIFIED:20250415T063434Z
UID:10000392-1756832400-1756836000@iueclocal6.org
SUMMARY:Executive Board Meeting
DESCRIPTION:
URL:https://iueclocal6.org/event/executive-board-meeting/2025-09-02/
CATEGORIES:default
END:VEVENT
BEGIN:VEVENT
DTSTART;TZID=UTC:20250812T180000
DTEND;TZID=UTC:20250812T190000
DTSTAMP:20260421T231932
CREATED:20250415T063221Z
LAST-MODIFIED:20250415T063221Z
UID:10000331-1755021600-1755025200@iueclocal6.org
SUMMARY:Union Meeting
DESCRIPTION:
URL:https://iueclocal6.org/event/union-meeting/2025-08-12/
CATEGORIES:default
END:VEVENT
BEGIN:VEVENT
DTSTART;TZID=UTC:20250805T170000
DTEND;TZID=UTC:20250805T180000
DTSTAMP:20260421T231932
CREATED:20250415T063434Z
LAST-MODIFIED:20250415T063434Z
UID:10000391-1754413200-1754416800@iueclocal6.org
SUMMARY:Executive Board Meeting
DESCRIPTION:
URL:https://iueclocal6.org/event/executive-board-meeting/2025-08-05/
CATEGORIES:default
END:VEVENT
BEGIN:VEVENT
DTSTART;TZID=UTC:20250801T080000
DTEND;TZID=UTC:20250801T170000
DTSTAMP:20260421T231932
CREATED:20250415T063839Z
LAST-MODIFIED:20250415T063839Z
UID:10000448-1754035200-1754067600@iueclocal6.org
SUMMARY:Annual Golf Outing
DESCRIPTION:
URL:https://iueclocal6.org/event/annual-golf-outing/
CATEGORIES:default
END:VEVENT
BEGIN:VEVENT
DTSTART;TZID=UTC:20250708T180000
DTEND;TZID=UTC:20250708T190000
DTSTAMP:20260421T231932
CREATED:20250415T063221Z
LAST-MODIFIED:20250415T063221Z
UID:10000330-1751997600-1752001200@iueclocal6.org
SUMMARY:Union Meeting
DESCRIPTION:
URL:https://iueclocal6.org/event/union-meeting/2025-07-08/
CATEGORIES:default
END:VEVENT
BEGIN:VEVENT
DTSTART;TZID=UTC:20250701T170000
DTEND;TZID=UTC:20250701T180000
DTSTAMP:20260421T231932
CREATED:20250415T063434Z
LAST-MODIFIED:20250415T063434Z
UID:10000390-1751389200-1751392800@iueclocal6.org
SUMMARY:Executive Board Meeting
DESCRIPTION:
URL:https://iueclocal6.org/event/executive-board-meeting/2025-07-01/
CATEGORIES:default
END:VEVENT
BEGIN:VEVENT
DTSTART;TZID=UTC:20250610T180000
DTEND;TZID=UTC:20250610T190000
DTSTAMP:20260421T231932
CREATED:20250415T063221Z
LAST-MODIFIED:20250415T063221Z
UID:10000329-1749578400-1749582000@iueclocal6.org
SUMMARY:Union Meeting
DESCRIPTION:
URL:https://iueclocal6.org/event/union-meeting/2025-06-10/
CATEGORIES:default
END:VEVENT
END:VCALENDAR