BEGIN:VCALENDAR
VERSION:2.0
PRODID:-//Local 6 - ECPv6.15.18//NONSGML v1.0//EN
CALSCALE:GREGORIAN
METHOD:PUBLISH
X-WR-CALNAME:Local 6
X-ORIGINAL-URL:https://iueclocal6.org
X-WR-CALDESC:Events for Local 6
REFRESH-INTERVAL;VALUE=DURATION:PT1H
X-Robots-Tag:noindex
X-PUBLISHED-TTL:PT1H
BEGIN:VTIMEZONE
TZID:UTC
BEGIN:STANDARD
TZOFFSETFROM:+0000
TZOFFSETTO:+0000
TZNAME:UTC
DTSTART:20270101T000000
END:STANDARD
END:VTIMEZONE
BEGIN:VEVENT
DTSTART;TZID=UTC:20280912T180000
DTEND;TZID=UTC:20280912T190000
DTSTAMP:20260421T232108
CREATED:20250415T063221Z
LAST-MODIFIED:20250415T063221Z
UID:10000368-1852394400-1852398000@iueclocal6.org
SUMMARY:Union Meeting
DESCRIPTION:
URL:https://iueclocal6.org/event/union-meeting/2028-09-12/
CATEGORIES:default
END:VEVENT
BEGIN:VEVENT
DTSTART;TZID=UTC:20281003T170000
DTEND;TZID=UTC:20281003T180000
DTSTAMP:20260421T232108
CREATED:20250415T063434Z
LAST-MODIFIED:20250415T063434Z
UID:10000429-1854205200-1854208800@iueclocal6.org
SUMMARY:Executive Board Meeting
DESCRIPTION:
URL:https://iueclocal6.org/event/executive-board-meeting/2028-10-03/
CATEGORIES:default
END:VEVENT
BEGIN:VEVENT
DTSTART;TZID=UTC:20281010T180000
DTEND;TZID=UTC:20281010T190000
DTSTAMP:20260421T232108
CREATED:20250415T063221Z
LAST-MODIFIED:20250415T063221Z
UID:10000369-1854813600-1854817200@iueclocal6.org
SUMMARY:Union Meeting
DESCRIPTION:
URL:https://iueclocal6.org/event/union-meeting/2028-10-10/
CATEGORIES:default
END:VEVENT
BEGIN:VEVENT
DTSTART;TZID=UTC:20281107T170000
DTEND;TZID=UTC:20281107T180000
DTSTAMP:20260421T232108
CREATED:20250415T063434Z
LAST-MODIFIED:20250415T063434Z
UID:10000430-1857229200-1857232800@iueclocal6.org
SUMMARY:Executive Board Meeting
DESCRIPTION:
URL:https://iueclocal6.org/event/executive-board-meeting/2028-11-07/
CATEGORIES:default
END:VEVENT
BEGIN:VEVENT
DTSTART;TZID=UTC:20281114T180000
DTEND;TZID=UTC:20281114T190000
DTSTAMP:20260421T232108
CREATED:20250415T063221Z
LAST-MODIFIED:20250415T063221Z
UID:10000370-1857837600-1857841200@iueclocal6.org
SUMMARY:Union Meeting
DESCRIPTION:
URL:https://iueclocal6.org/event/union-meeting/2028-11-14/
CATEGORIES:default
END:VEVENT
BEGIN:VEVENT
DTSTART;TZID=UTC:20281205T170000
DTEND;TZID=UTC:20281205T180000
DTSTAMP:20260421T232108
CREATED:20250415T063434Z
LAST-MODIFIED:20250415T063434Z
UID:10000431-1859648400-1859652000@iueclocal6.org
SUMMARY:Executive Board Meeting
DESCRIPTION:
URL:https://iueclocal6.org/event/executive-board-meeting/2028-12-05/
CATEGORIES:default
END:VEVENT
BEGIN:VEVENT
DTSTART;TZID=UTC:20281212T180000
DTEND;TZID=UTC:20281212T190000
DTSTAMP:20260421T232108
CREATED:20250415T063221Z
LAST-MODIFIED:20250415T063221Z
UID:10000371-1860256800-1860260400@iueclocal6.org
SUMMARY:Union Meeting
DESCRIPTION:
URL:https://iueclocal6.org/event/union-meeting/2028-12-12/
CATEGORIES:default
END:VEVENT
BEGIN:VEVENT
DTSTART;TZID=UTC:20290102T170000
DTEND;TZID=UTC:20290102T180000
DTSTAMP:20260421T232108
CREATED:20250415T063434Z
LAST-MODIFIED:20250415T063434Z
UID:10000432-1862067600-1862071200@iueclocal6.org
SUMMARY:Executive Board Meeting
DESCRIPTION:
URL:https://iueclocal6.org/event/executive-board-meeting/2029-01-02/
CATEGORIES:default
END:VEVENT
BEGIN:VEVENT
DTSTART;TZID=UTC:20290109T180000
DTEND;TZID=UTC:20290109T190000
DTSTAMP:20260421T232108
CREATED:20250415T063221Z
LAST-MODIFIED:20250415T063221Z
UID:10000372-1862676000-1862679600@iueclocal6.org
SUMMARY:Union Meeting
DESCRIPTION:
URL:https://iueclocal6.org/event/union-meeting/2029-01-09/
CATEGORIES:default
END:VEVENT
BEGIN:VEVENT
DTSTART;TZID=UTC:20290206T170000
DTEND;TZID=UTC:20290206T180000
DTSTAMP:20260421T232108
CREATED:20250415T063434Z
LAST-MODIFIED:20250415T063434Z
UID:10000433-1865091600-1865095200@iueclocal6.org
SUMMARY:Executive Board Meeting
DESCRIPTION:
URL:https://iueclocal6.org/event/executive-board-meeting/2029-02-06/
CATEGORIES:default
END:VEVENT
BEGIN:VEVENT
DTSTART;TZID=UTC:20290213T180000
DTEND;TZID=UTC:20290213T190000
DTSTAMP:20260421T232108
CREATED:20250415T063221Z
LAST-MODIFIED:20250415T063221Z
UID:10000373-1865700000-1865703600@iueclocal6.org
SUMMARY:Union Meeting
DESCRIPTION:
URL:https://iueclocal6.org/event/union-meeting/2029-02-13/
CATEGORIES:default
END:VEVENT
BEGIN:VEVENT
DTSTART;TZID=UTC:20290306T170000
DTEND;TZID=UTC:20290306T180000
DTSTAMP:20260421T232108
CREATED:20250415T063434Z
LAST-MODIFIED:20250415T063434Z
UID:10000434-1867510800-1867514400@iueclocal6.org
SUMMARY:Executive Board Meeting
DESCRIPTION:
URL:https://iueclocal6.org/event/executive-board-meeting/2029-03-06/
CATEGORIES:default
END:VEVENT
BEGIN:VEVENT
DTSTART;TZID=UTC:20290313T180000
DTEND;TZID=UTC:20290313T190000
DTSTAMP:20260421T232108
CREATED:20250415T063221Z
LAST-MODIFIED:20250415T063221Z
UID:10000374-1868119200-1868122800@iueclocal6.org
SUMMARY:Union Meeting
DESCRIPTION:
URL:https://iueclocal6.org/event/union-meeting/2029-03-13/
CATEGORIES:default
END:VEVENT
BEGIN:VEVENT
DTSTART;TZID=UTC:20290403T170000
DTEND;TZID=UTC:20290403T180000
DTSTAMP:20260421T232108
CREATED:20250415T063434Z
LAST-MODIFIED:20250415T063434Z
UID:10000435-1869930000-1869933600@iueclocal6.org
SUMMARY:Executive Board Meeting
DESCRIPTION:
URL:https://iueclocal6.org/event/executive-board-meeting/2029-04-03/
CATEGORIES:default
END:VEVENT
BEGIN:VEVENT
DTSTART;TZID=UTC:20290410T180000
DTEND;TZID=UTC:20290410T190000
DTSTAMP:20260421T232108
CREATED:20250415T063221Z
LAST-MODIFIED:20250415T063221Z
UID:10000375-1870538400-1870542000@iueclocal6.org
SUMMARY:Union Meeting
DESCRIPTION:
URL:https://iueclocal6.org/event/union-meeting/2029-04-10/
CATEGORIES:default
END:VEVENT
BEGIN:VEVENT
DTSTART;TZID=UTC:20290501T170000
DTEND;TZID=UTC:20290501T180000
DTSTAMP:20260421T232108
CREATED:20250415T063434Z
LAST-MODIFIED:20250415T063434Z
UID:10000436-1872349200-1872352800@iueclocal6.org
SUMMARY:Executive Board Meeting
DESCRIPTION:
URL:https://iueclocal6.org/event/executive-board-meeting/2029-05-01/
CATEGORIES:default
END:VEVENT
BEGIN:VEVENT
DTSTART;TZID=UTC:20290508T180000
DTEND;TZID=UTC:20290508T190000
DTSTAMP:20260421T232108
CREATED:20250415T063221Z
LAST-MODIFIED:20250415T063221Z
UID:10000376-1872957600-1872961200@iueclocal6.org
SUMMARY:Union Meeting
DESCRIPTION:
URL:https://iueclocal6.org/event/union-meeting/2029-05-08/
CATEGORIES:default
END:VEVENT
BEGIN:VEVENT
DTSTART;TZID=UTC:20290605T170000
DTEND;TZID=UTC:20290605T180000
DTSTAMP:20260421T232108
CREATED:20250415T063434Z
LAST-MODIFIED:20250415T063434Z
UID:10000437-1875373200-1875376800@iueclocal6.org
SUMMARY:Executive Board Meeting
DESCRIPTION:
URL:https://iueclocal6.org/event/executive-board-meeting/2029-06-05/
CATEGORIES:default
END:VEVENT
BEGIN:VEVENT
DTSTART;TZID=UTC:20290612T180000
DTEND;TZID=UTC:20290612T190000
DTSTAMP:20260421T232108
CREATED:20250415T063221Z
LAST-MODIFIED:20250415T063221Z
UID:10000377-1875981600-1875985200@iueclocal6.org
SUMMARY:Union Meeting
DESCRIPTION:
URL:https://iueclocal6.org/event/union-meeting/2029-06-12/
CATEGORIES:default
END:VEVENT
BEGIN:VEVENT
DTSTART;TZID=UTC:20290703T170000
DTEND;TZID=UTC:20290703T180000
DTSTAMP:20260421T232108
CREATED:20250415T063434Z
LAST-MODIFIED:20250415T063434Z
UID:10000438-1877792400-1877796000@iueclocal6.org
SUMMARY:Executive Board Meeting
DESCRIPTION:
URL:https://iueclocal6.org/event/executive-board-meeting/2029-07-03/
CATEGORIES:default
END:VEVENT
BEGIN:VEVENT
DTSTART;TZID=UTC:20290710T180000
DTEND;TZID=UTC:20290710T190000
DTSTAMP:20260421T232108
CREATED:20250415T063221Z
LAST-MODIFIED:20250415T063221Z
UID:10000378-1878400800-1878404400@iueclocal6.org
SUMMARY:Union Meeting
DESCRIPTION:
URL:https://iueclocal6.org/event/union-meeting/2029-07-10/
CATEGORIES:default
END:VEVENT
BEGIN:VEVENT
DTSTART;TZID=UTC:20290807T170000
DTEND;TZID=UTC:20290807T180000
DTSTAMP:20260421T232108
CREATED:20250415T063434Z
LAST-MODIFIED:20250415T063434Z
UID:10000439-1880816400-1880820000@iueclocal6.org
SUMMARY:Executive Board Meeting
DESCRIPTION:
URL:https://iueclocal6.org/event/executive-board-meeting/2029-08-07/
CATEGORIES:default
END:VEVENT
BEGIN:VEVENT
DTSTART;TZID=UTC:20290814T180000
DTEND;TZID=UTC:20290814T190000
DTSTAMP:20260421T232108
CREATED:20250415T063221Z
LAST-MODIFIED:20250415T063221Z
UID:10000379-1881424800-1881428400@iueclocal6.org
SUMMARY:Union Meeting
DESCRIPTION:
URL:https://iueclocal6.org/event/union-meeting/2029-08-14/
CATEGORIES:default
END:VEVENT
BEGIN:VEVENT
DTSTART;TZID=UTC:20290904T170000
DTEND;TZID=UTC:20290904T180000
DTSTAMP:20260421T232108
CREATED:20250415T063434Z
LAST-MODIFIED:20250415T063434Z
UID:10000440-1883235600-1883239200@iueclocal6.org
SUMMARY:Executive Board Meeting
DESCRIPTION:
URL:https://iueclocal6.org/event/executive-board-meeting/2029-09-04/
CATEGORIES:default
END:VEVENT
BEGIN:VEVENT
DTSTART;TZID=UTC:20290911T180000
DTEND;TZID=UTC:20290911T190000
DTSTAMP:20260421T232108
CREATED:20250415T063221Z
LAST-MODIFIED:20250415T063221Z
UID:10000380-1883844000-1883847600@iueclocal6.org
SUMMARY:Union Meeting
DESCRIPTION:
URL:https://iueclocal6.org/event/union-meeting/2029-09-11/
CATEGORIES:default
END:VEVENT
BEGIN:VEVENT
DTSTART;TZID=UTC:20291002T170000
DTEND;TZID=UTC:20291002T180000
DTSTAMP:20260421T232108
CREATED:20250415T063434Z
LAST-MODIFIED:20250415T063434Z
UID:10000441-1885654800-1885658400@iueclocal6.org
SUMMARY:Executive Board Meeting
DESCRIPTION:
URL:https://iueclocal6.org/event/executive-board-meeting/2029-10-02/
CATEGORIES:default
END:VEVENT
BEGIN:VEVENT
DTSTART;TZID=UTC:20291009T180000
DTEND;TZID=UTC:20291009T190000
DTSTAMP:20260421T232108
CREATED:20250415T063221Z
LAST-MODIFIED:20250415T063221Z
UID:10000381-1886263200-1886266800@iueclocal6.org
SUMMARY:Union Meeting
DESCRIPTION:
URL:https://iueclocal6.org/event/union-meeting/2029-10-09/
CATEGORIES:default
END:VEVENT
BEGIN:VEVENT
DTSTART;TZID=UTC:20291106T170000
DTEND;TZID=UTC:20291106T180000
DTSTAMP:20260421T232108
CREATED:20250415T063434Z
LAST-MODIFIED:20250415T063434Z
UID:10000442-1888678800-1888682400@iueclocal6.org
SUMMARY:Executive Board Meeting
DESCRIPTION:
URL:https://iueclocal6.org/event/executive-board-meeting/2029-11-06/
CATEGORIES:default
END:VEVENT
BEGIN:VEVENT
DTSTART;TZID=UTC:20291113T180000
DTEND;TZID=UTC:20291113T190000
DTSTAMP:20260421T232108
CREATED:20250415T063221Z
LAST-MODIFIED:20250415T063221Z
UID:10000382-1889287200-1889290800@iueclocal6.org
SUMMARY:Union Meeting
DESCRIPTION:
URL:https://iueclocal6.org/event/union-meeting/2029-11-13/
CATEGORIES:default
END:VEVENT
BEGIN:VEVENT
DTSTART;TZID=UTC:20291204T170000
DTEND;TZID=UTC:20291204T180000
DTSTAMP:20260421T232108
CREATED:20250415T063434Z
LAST-MODIFIED:20250415T063434Z
UID:10000443-1891098000-1891101600@iueclocal6.org
SUMMARY:Executive Board Meeting
DESCRIPTION:
URL:https://iueclocal6.org/event/executive-board-meeting/2029-12-04/
CATEGORIES:default
END:VEVENT
END:VCALENDAR