BEGIN:VCALENDAR
VERSION:2.0
PRODID:-//Local 6 - ECPv6.15.18//NONSGML v1.0//EN
CALSCALE:GREGORIAN
METHOD:PUBLISH
X-WR-CALNAME:Local 6
X-ORIGINAL-URL:https://iueclocal6.org
X-WR-CALDESC:Events for Local 6
REFRESH-INTERVAL;VALUE=DURATION:PT1H
X-Robots-Tag:noindex
X-PUBLISHED-TTL:PT1H
BEGIN:VTIMEZONE
TZID:UTC
BEGIN:STANDARD
TZOFFSETFROM:+0000
TZOFFSETTO:+0000
TZNAME:UTC
DTSTART:20280101T000000
END:STANDARD
END:VTIMEZONE
BEGIN:VEVENT
DTSTART;TZID=UTC:20290710T180000
DTEND;TZID=UTC:20290710T190000
DTSTAMP:20260422T000948
CREATED:20250415T063221Z
LAST-MODIFIED:20250415T063221Z
UID:10000378-1878400800-1878404400@iueclocal6.org
SUMMARY:Union Meeting
DESCRIPTION:
URL:https://iueclocal6.org/event/union-meeting/2029-07-10/
CATEGORIES:default
END:VEVENT
BEGIN:VEVENT
DTSTART;TZID=UTC:20290807T170000
DTEND;TZID=UTC:20290807T180000
DTSTAMP:20260422T000948
CREATED:20250415T063434Z
LAST-MODIFIED:20250415T063434Z
UID:10000439-1880816400-1880820000@iueclocal6.org
SUMMARY:Executive Board Meeting
DESCRIPTION:
URL:https://iueclocal6.org/event/executive-board-meeting/2029-08-07/
CATEGORIES:default
END:VEVENT
BEGIN:VEVENT
DTSTART;TZID=UTC:20290814T180000
DTEND;TZID=UTC:20290814T190000
DTSTAMP:20260422T000948
CREATED:20250415T063221Z
LAST-MODIFIED:20250415T063221Z
UID:10000379-1881424800-1881428400@iueclocal6.org
SUMMARY:Union Meeting
DESCRIPTION:
URL:https://iueclocal6.org/event/union-meeting/2029-08-14/
CATEGORIES:default
END:VEVENT
BEGIN:VEVENT
DTSTART;TZID=UTC:20290904T170000
DTEND;TZID=UTC:20290904T180000
DTSTAMP:20260422T000948
CREATED:20250415T063434Z
LAST-MODIFIED:20250415T063434Z
UID:10000440-1883235600-1883239200@iueclocal6.org
SUMMARY:Executive Board Meeting
DESCRIPTION:
URL:https://iueclocal6.org/event/executive-board-meeting/2029-09-04/
CATEGORIES:default
END:VEVENT
BEGIN:VEVENT
DTSTART;TZID=UTC:20290911T180000
DTEND;TZID=UTC:20290911T190000
DTSTAMP:20260422T000948
CREATED:20250415T063221Z
LAST-MODIFIED:20250415T063221Z
UID:10000380-1883844000-1883847600@iueclocal6.org
SUMMARY:Union Meeting
DESCRIPTION:
URL:https://iueclocal6.org/event/union-meeting/2029-09-11/
CATEGORIES:default
END:VEVENT
BEGIN:VEVENT
DTSTART;TZID=UTC:20291002T170000
DTEND;TZID=UTC:20291002T180000
DTSTAMP:20260422T000948
CREATED:20250415T063434Z
LAST-MODIFIED:20250415T063434Z
UID:10000441-1885654800-1885658400@iueclocal6.org
SUMMARY:Executive Board Meeting
DESCRIPTION:
URL:https://iueclocal6.org/event/executive-board-meeting/2029-10-02/
CATEGORIES:default
END:VEVENT
BEGIN:VEVENT
DTSTART;TZID=UTC:20291009T180000
DTEND;TZID=UTC:20291009T190000
DTSTAMP:20260422T000948
CREATED:20250415T063221Z
LAST-MODIFIED:20250415T063221Z
UID:10000381-1886263200-1886266800@iueclocal6.org
SUMMARY:Union Meeting
DESCRIPTION:
URL:https://iueclocal6.org/event/union-meeting/2029-10-09/
CATEGORIES:default
END:VEVENT
BEGIN:VEVENT
DTSTART;TZID=UTC:20291106T170000
DTEND;TZID=UTC:20291106T180000
DTSTAMP:20260422T000948
CREATED:20250415T063434Z
LAST-MODIFIED:20250415T063434Z
UID:10000442-1888678800-1888682400@iueclocal6.org
SUMMARY:Executive Board Meeting
DESCRIPTION:
URL:https://iueclocal6.org/event/executive-board-meeting/2029-11-06/
CATEGORIES:default
END:VEVENT
BEGIN:VEVENT
DTSTART;TZID=UTC:20291113T180000
DTEND;TZID=UTC:20291113T190000
DTSTAMP:20260422T000948
CREATED:20250415T063221Z
LAST-MODIFIED:20250415T063221Z
UID:10000382-1889287200-1889290800@iueclocal6.org
SUMMARY:Union Meeting
DESCRIPTION:
URL:https://iueclocal6.org/event/union-meeting/2029-11-13/
CATEGORIES:default
END:VEVENT
BEGIN:VEVENT
DTSTART;TZID=UTC:20291204T170000
DTEND;TZID=UTC:20291204T180000
DTSTAMP:20260422T000948
CREATED:20250415T063434Z
LAST-MODIFIED:20250415T063434Z
UID:10000443-1891098000-1891101600@iueclocal6.org
SUMMARY:Executive Board Meeting
DESCRIPTION:
URL:https://iueclocal6.org/event/executive-board-meeting/2029-12-04/
CATEGORIES:default
END:VEVENT
BEGIN:VEVENT
DTSTART;TZID=UTC:20291211T180000
DTEND;TZID=UTC:20291211T190000
DTSTAMP:20260422T000948
CREATED:20250415T063221Z
LAST-MODIFIED:20250415T063221Z
UID:10000383-1891706400-1891710000@iueclocal6.org
SUMMARY:Union Meeting
DESCRIPTION:
URL:https://iueclocal6.org/event/union-meeting/2029-12-11/
CATEGORIES:default
END:VEVENT
BEGIN:VEVENT
DTSTART;TZID=UTC:20300101T170000
DTEND;TZID=UTC:20300101T180000
DTSTAMP:20260422T000948
CREATED:20250415T063434Z
LAST-MODIFIED:20250415T063434Z
UID:10000444-1893517200-1893520800@iueclocal6.org
SUMMARY:Executive Board Meeting
DESCRIPTION:
URL:https://iueclocal6.org/event/executive-board-meeting/2030-01-01/
CATEGORIES:default
END:VEVENT
BEGIN:VEVENT
DTSTART;TZID=UTC:20300108T180000
DTEND;TZID=UTC:20300108T190000
DTSTAMP:20260422T000948
CREATED:20250415T063221Z
LAST-MODIFIED:20250415T063221Z
UID:10000384-1894125600-1894129200@iueclocal6.org
SUMMARY:Union Meeting
DESCRIPTION:
URL:https://iueclocal6.org/event/union-meeting/2030-01-08/
CATEGORIES:default
END:VEVENT
BEGIN:VEVENT
DTSTART;TZID=UTC:20300205T170000
DTEND;TZID=UTC:20300205T180000
DTSTAMP:20260422T000948
CREATED:20250415T063434Z
LAST-MODIFIED:20250415T063434Z
UID:10000445-1896541200-1896544800@iueclocal6.org
SUMMARY:Executive Board Meeting
DESCRIPTION:
URL:https://iueclocal6.org/event/executive-board-meeting/2030-02-05/
CATEGORIES:default
END:VEVENT
BEGIN:VEVENT
DTSTART;TZID=UTC:20300212T180000
DTEND;TZID=UTC:20300212T190000
DTSTAMP:20260422T000948
CREATED:20250415T063221Z
LAST-MODIFIED:20250415T063221Z
UID:10000385-1897149600-1897153200@iueclocal6.org
SUMMARY:Union Meeting
DESCRIPTION:
URL:https://iueclocal6.org/event/union-meeting/2030-02-12/
CATEGORIES:default
END:VEVENT
BEGIN:VEVENT
DTSTART;TZID=UTC:20300305T170000
DTEND;TZID=UTC:20300305T180000
DTSTAMP:20260422T000948
CREATED:20250415T063434Z
LAST-MODIFIED:20250415T063434Z
UID:10000446-1898960400-1898964000@iueclocal6.org
SUMMARY:Executive Board Meeting
DESCRIPTION:
URL:https://iueclocal6.org/event/executive-board-meeting/2030-03-05/
CATEGORIES:default
END:VEVENT
BEGIN:VEVENT
DTSTART;TZID=UTC:20300312T180000
DTEND;TZID=UTC:20300312T190000
DTSTAMP:20260422T000948
CREATED:20250415T063221Z
LAST-MODIFIED:20250415T063221Z
UID:10000386-1899568800-1899572400@iueclocal6.org
SUMMARY:Union Meeting
DESCRIPTION:
URL:https://iueclocal6.org/event/union-meeting/2030-03-12/
CATEGORIES:default
END:VEVENT
BEGIN:VEVENT
DTSTART;TZID=UTC:20300402T170000
DTEND;TZID=UTC:20300402T180000
DTSTAMP:20260422T000948
CREATED:20250415T063434Z
LAST-MODIFIED:20250415T063434Z
UID:10000447-1901379600-1901383200@iueclocal6.org
SUMMARY:Executive Board Meeting
DESCRIPTION:
URL:https://iueclocal6.org/event/executive-board-meeting/2030-04-02/
CATEGORIES:default
END:VEVENT
BEGIN:VEVENT
DTSTART;TZID=UTC:20300409T180000
DTEND;TZID=UTC:20300409T190000
DTSTAMP:20260422T000948
CREATED:20250415T063221Z
LAST-MODIFIED:20250415T063221Z
UID:10000387-1901988000-1901991600@iueclocal6.org
SUMMARY:Union Meeting
DESCRIPTION:
URL:https://iueclocal6.org/event/union-meeting/2030-04-09/
CATEGORIES:default
END:VEVENT
END:VCALENDAR