BEGIN:VCALENDAR
VERSION:2.0
PRODID:-//Local 6 - ECPv6.15.18//NONSGML v1.0//EN
CALSCALE:GREGORIAN
METHOD:PUBLISH
X-ORIGINAL-URL:https://iueclocal6.org
X-WR-CALDESC:Events for Local 6
REFRESH-INTERVAL;VALUE=DURATION:PT1H
X-Robots-Tag:noindex
X-PUBLISHED-TTL:PT1H
BEGIN:VTIMEZONE
TZID:UTC
BEGIN:STANDARD
TZOFFSETFROM:+0000
TZOFFSETTO:+0000
TZNAME:UTC
DTSTART:20250101T000000
END:STANDARD
END:VTIMEZONE
BEGIN:VEVENT
DTSTART;TZID=UTC:20260203T170000
DTEND;TZID=UTC:20260203T180000
DTSTAMP:20260421T120242
CREATED:20250415T063434Z
LAST-MODIFIED:20250415T063434Z
UID:10000397-1770138000-1770141600@iueclocal6.org
SUMMARY:Executive Board Meeting
DESCRIPTION:
URL:https://iueclocal6.org/event/executive-board-meeting/2026-02-03/
CATEGORIES:default
END:VEVENT
BEGIN:VEVENT
DTSTART;TZID=UTC:20260210T180000
DTEND;TZID=UTC:20260210T190000
DTSTAMP:20260421T120242
CREATED:20250415T063221Z
LAST-MODIFIED:20250415T063221Z
UID:10000337-1770746400-1770750000@iueclocal6.org
SUMMARY:Union Meeting
DESCRIPTION:
URL:https://iueclocal6.org/event/union-meeting/2026-02-10/
CATEGORIES:default
END:VEVENT
END:VCALENDAR