BEGIN:VCALENDAR
VERSION:2.0
PRODID:-//Local 6 - ECPv6.15.18//NONSGML v1.0//EN
CALSCALE:GREGORIAN
METHOD:PUBLISH
X-ORIGINAL-URL:https://iueclocal6.org
X-WR-CALDESC:Events for Local 6
REFRESH-INTERVAL;VALUE=DURATION:PT1H
X-Robots-Tag:noindex
X-PUBLISHED-TTL:PT1H
BEGIN:VTIMEZONE
TZID:UTC
BEGIN:STANDARD
TZOFFSETFROM:+0000
TZOFFSETTO:+0000
TZNAME:UTC
DTSTART:20250101T000000
END:STANDARD
END:VTIMEZONE
BEGIN:VEVENT
DTSTART;TZID=UTC:20260303T170000
DTEND;TZID=UTC:20260303T180000
DTSTAMP:20260421T102218
CREATED:20250415T063434Z
LAST-MODIFIED:20250415T063434Z
UID:10000398-1772557200-1772560800@iueclocal6.org
SUMMARY:Executive Board Meeting
DESCRIPTION:
URL:https://iueclocal6.org/event/executive-board-meeting/2026-03-03/
CATEGORIES:default
END:VEVENT
BEGIN:VEVENT
DTSTART;TZID=UTC:20260310T180000
DTEND;TZID=UTC:20260310T190000
DTSTAMP:20260421T102218
CREATED:20250415T063221Z
LAST-MODIFIED:20250415T063221Z
UID:10000338-1773165600-1773169200@iueclocal6.org
SUMMARY:Union Meeting
DESCRIPTION:
URL:https://iueclocal6.org/event/union-meeting/2026-03-10/
CATEGORIES:default
END:VEVENT
BEGIN:VEVENT
DTSTART;VALUE=DATE:20260325
DTEND;VALUE=DATE:20260329
DTSTAMP:20260421T102218
CREATED:20251113T183536Z
LAST-MODIFIED:20251113T183536Z
UID:10000452-1774422000-1774681199@iueclocal6.org
SUMMARY:CTBUH 2026 Americas Conference
DESCRIPTION:
URL:https://iueclocal6.org/event/ctbuh-2026-americas-conference/
END:VEVENT
END:VCALENDAR